BEGIN:VCALENDAR
VERSION:2.0
PRODID:-//Democrats of Greater Riverside - ECPv6.15.12.2//NONSGML v1.0//EN
CALSCALE:GREGORIAN
METHOD:PUBLISH
X-WR-CALNAME:Democrats of Greater Riverside
X-ORIGINAL-URL:https://democratsofgreaterriverside.com
X-WR-CALDESC:Events for Democrats of Greater Riverside
REFRESH-INTERVAL;VALUE=DURATION:PT1H
X-Robots-Tag:noindex
X-PUBLISHED-TTL:PT1H
BEGIN:VTIMEZONE
TZID:America/Los_Angeles
BEGIN:DAYLIGHT
TZOFFSETFROM:-0800
TZOFFSETTO:-0700
TZNAME:PDT
DTSTART:20250309T100000
END:DAYLIGHT
BEGIN:STANDARD
TZOFFSETFROM:-0700
TZOFFSETTO:-0800
TZNAME:PST
DTSTART:20251102T090000
END:STANDARD
BEGIN:DAYLIGHT
TZOFFSETFROM:-0800
TZOFFSETTO:-0700
TZNAME:PDT
DTSTART:20260308T100000
END:DAYLIGHT
BEGIN:STANDARD
TZOFFSETFROM:-0700
TZOFFSETTO:-0800
TZNAME:PST
DTSTART:20261101T090000
END:STANDARD
BEGIN:DAYLIGHT
TZOFFSETFROM:-0800
TZOFFSETTO:-0700
TZNAME:PDT
DTSTART:20270314T100000
END:DAYLIGHT
BEGIN:STANDARD
TZOFFSETFROM:-0700
TZOFFSETTO:-0800
TZNAME:PST
DTSTART:20271107T090000
END:STANDARD
END:VTIMEZONE
BEGIN:VEVENT
DTSTART;TZID=America/Los_Angeles:20260901T150000
DTEND;TZID=America/Los_Angeles:20260901T200000
DTSTAMP:20260422T014255
CREATED:20260405T002352Z
LAST-MODIFIED:20260405T002352Z
UID:10000254-1788274800-1788292800@democratsofgreaterriverside.com
SUMMARY:Riverside City Council
DESCRIPTION:The Riverside City Council typically holds regular meetings on Tuesdays at 1:00 PM and 6:15 PM in the Art Pick Council Chamber\, located at 3900 Main Street\, Riverside\, CA. However\, meeting schedules can vary\, and some sessions may be canceled or rescheduled.Meeting Agendas & Info:  https://riversideca.legistar.com/Calendar.aspx
URL:https://democratsofgreaterriverside.com/event/riverside-city-council-24/
CATEGORIES:City Council
END:VEVENT
BEGIN:VEVENT
DTSTART;TZID=America/Los_Angeles:20260915T150000
DTEND;TZID=America/Los_Angeles:20260915T200000
DTSTAMP:20260422T014255
CREATED:20260405T002438Z
LAST-MODIFIED:20260405T002438Z
UID:10000255-1789484400-1789502400@democratsofgreaterriverside.com
SUMMARY:Riverside City Council
DESCRIPTION:The Riverside City Council typically holds regular meetings on Tuesdays at 1:00 PM and 6:15 PM in the Art Pick Council Chamber\, located at 3900 Main Street\, Riverside\, CA. However\, meeting schedules can vary\, and some sessions may be canceled or rescheduled.Meeting Agendas & Info:  https://riversideca.legistar.com/Calendar.aspx
URL:https://democratsofgreaterriverside.com/event/riverside-city-council-25/
CATEGORIES:City Council
END:VEVENT
BEGIN:VEVENT
DTSTART;TZID=America/Los_Angeles:20260922T150000
DTEND;TZID=America/Los_Angeles:20260922T200000
DTSTAMP:20260422T014255
CREATED:20260405T002454Z
LAST-MODIFIED:20260405T002454Z
UID:10000256-1790089200-1790107200@democratsofgreaterriverside.com
SUMMARY:Riverside City Council
DESCRIPTION:The Riverside City Council typically holds regular meetings on Tuesdays at 1:00 PM and 6:15 PM in the Art Pick Council Chamber\, located at 3900 Main Street\, Riverside\, CA. However\, meeting schedules can vary\, and some sessions may be canceled or rescheduled.Meeting Agendas & Info:  https://riversideca.legistar.com/Calendar.aspx
URL:https://democratsofgreaterriverside.com/event/riverside-city-council-26/
CATEGORIES:City Council
END:VEVENT
END:VCALENDAR