BEGIN:VCALENDAR
VERSION:2.0
PRODID:-//Democrats of Greater Riverside - ECPv6.15.12.2//NONSGML v1.0//EN
CALSCALE:GREGORIAN
METHOD:PUBLISH
X-ORIGINAL-URL:https://democratsofgreaterriverside.com
X-WR-CALDESC:Events for Democrats of Greater Riverside
REFRESH-INTERVAL;VALUE=DURATION:PT1H
X-Robots-Tag:noindex
X-PUBLISHED-TTL:PT1H
BEGIN:VTIMEZONE
TZID:America/Los_Angeles
BEGIN:DAYLIGHT
TZOFFSETFROM:-0800
TZOFFSETTO:-0700
TZNAME:PDT
DTSTART:20250309T100000
END:DAYLIGHT
BEGIN:STANDARD
TZOFFSETFROM:-0700
TZOFFSETTO:-0800
TZNAME:PST
DTSTART:20251102T090000
END:STANDARD
BEGIN:DAYLIGHT
TZOFFSETFROM:-0800
TZOFFSETTO:-0700
TZNAME:PDT
DTSTART:20260308T100000
END:DAYLIGHT
BEGIN:STANDARD
TZOFFSETFROM:-0700
TZOFFSETTO:-0800
TZNAME:PST
DTSTART:20261101T090000
END:STANDARD
BEGIN:DAYLIGHT
TZOFFSETFROM:-0800
TZOFFSETTO:-0700
TZNAME:PDT
DTSTART:20270314T100000
END:DAYLIGHT
BEGIN:STANDARD
TZOFFSETFROM:-0700
TZOFFSETTO:-0800
TZNAME:PST
DTSTART:20271107T090000
END:STANDARD
END:VTIMEZONE
BEGIN:VEVENT
DTSTART;TZID=America/Los_Angeles:20260827T173000
DTEND;TZID=America/Los_Angeles:20260827T190000
DTSTAMP:20260423T131017
CREATED:20260405T010836Z
LAST-MODIFIED:20260405T010836Z
UID:10000289-1787851800-1787857200@democratsofgreaterriverside.com
SUMMARY:RUSD Board Meeting
DESCRIPTION:The Board of Education typically meets on Thursday nights for meetings unless otherwise noted. Members of the public are invited and encouraged to attend all Board meetings and meetings will take place in the Board Room at the Riverside Adult School\, which is located at 6735 Magnolia Avenue\, Riverside\, 92506\, unless otherwise noted. Meetings begin at 4:00 p.m. and the Board will immediately adjourn to Closed Session after Public Input on Closed Session items has been heard\, the Board will reconvene in Open Session at 5:30 p.m. unless otherwise noted.    MEETING AGENDA:  https://simbli.eboardsolutions.com/SB_Meetings/SB_MeetingListing.aspx?S=36030406\nMeeting Agendas & Info:  https://simbli.eboardsolutions.com/SB_Meetings/SB_MeetingListing.aspx?S=36030406
URL:https://democratsofgreaterriverside.com/event/rusd-board-meeting-11/
LOCATION:Riverside Adult School\, 6735 Magnolia Avenue\, Riverside\, CA\, 92506\, United States
CATEGORIES:School Board
END:VEVENT
END:VCALENDAR