BEGIN:VCALENDAR
VERSION:2.0
PRODID:-//Democrats of Greater Riverside - ECPv6.15.12.2//NONSGML v1.0//EN
CALSCALE:GREGORIAN
METHOD:PUBLISH
X-WR-CALNAME:Democrats of Greater Riverside
X-ORIGINAL-URL:https://democratsofgreaterriverside.com
X-WR-CALDESC:Events for Democrats of Greater Riverside
REFRESH-INTERVAL;VALUE=DURATION:PT1H
X-Robots-Tag:noindex
X-PUBLISHED-TTL:PT1H
BEGIN:VTIMEZONE
TZID:America/Los_Angeles
BEGIN:DAYLIGHT
TZOFFSETFROM:-0800
TZOFFSETTO:-0700
TZNAME:PDT
DTSTART:20240310T100000
END:DAYLIGHT
BEGIN:STANDARD
TZOFFSETFROM:-0700
TZOFFSETTO:-0800
TZNAME:PST
DTSTART:20241103T090000
END:STANDARD
BEGIN:DAYLIGHT
TZOFFSETFROM:-0800
TZOFFSETTO:-0700
TZNAME:PDT
DTSTART:20250309T100000
END:DAYLIGHT
BEGIN:STANDARD
TZOFFSETFROM:-0700
TZOFFSETTO:-0800
TZNAME:PST
DTSTART:20251102T090000
END:STANDARD
BEGIN:DAYLIGHT
TZOFFSETFROM:-0800
TZOFFSETTO:-0700
TZNAME:PDT
DTSTART:20260308T100000
END:DAYLIGHT
BEGIN:STANDARD
TZOFFSETFROM:-0700
TZOFFSETTO:-0800
TZNAME:PST
DTSTART:20261101T090000
END:STANDARD
END:VTIMEZONE
BEGIN:VEVENT
DTSTART;TZID=America/Los_Angeles:20251119T180000
DTEND;TZID=America/Los_Angeles:20251119T203000
DTSTAMP:20260423T015724
CREATED:20250808T153322Z
LAST-MODIFIED:20250808T153322Z
UID:10000175-1763575200-1763584200@democratsofgreaterriverside.com
SUMMARY:Corona City Council
DESCRIPTION:The Corona City Council meets on the first and third Wednesdays of each month. Meetings are held at 6:00 PM in the City Hall Council Chambers.   Meeting Agendas:  https://www.coronaca.gov/government/mayor-city-council/meeting-agendas-and-videos
URL:https://democratsofgreaterriverside.com/event/corona-city-council-7/
LOCATION:Corona City Hall\, 400 S. Vicentia Avenue\, Corona\, CA\, 92882\, United States
CATEGORIES:City Council
END:VEVENT
BEGIN:VEVENT
DTSTART;TZID=America/Los_Angeles:20251118T180000
DTEND;TZID=America/Los_Angeles:20251118T200000
DTSTAMP:20260423T015724
CREATED:20250808T145319Z
LAST-MODIFIED:20250808T145319Z
UID:10000133-1763488800-1763496000@democratsofgreaterriverside.com
SUMMARY:Moreno Valley City Council Meeting
DESCRIPTION:City Councilmembers\, during council meetings\, listen to citizens\, allocate funds\, and make crucial decisions essential to the City’s future.  Meeting Agendas:  https://www.moval.gov/city_council/agendas-escribe.html
URL:https://democratsofgreaterriverside.com/event/moreno-valley-city-council-meeting-8/
LOCATION:Moreno Valley City Hall Council Chamber\, 14177 Frederick St\, Moreno Valley\, CA\, 92553\, United States
CATEGORIES:City Council
END:VEVENT
BEGIN:VEVENT
DTSTART;TZID=America/Los_Angeles:20251118T180000
DTEND;TZID=America/Los_Angeles:20251118T190000
DTSTAMP:20260423T015724
CREATED:20250808T150510Z
LAST-MODIFIED:20250808T150510Z
UID:10000157-1763488800-1763492400@democratsofgreaterriverside.com
SUMMARY:Jurupa Valley School Board
DESCRIPTION:The Board meetings are held Tuesdays at 5:00 p.m. and will be held in the Board Room at the Benita B. Roberts Education Center.   Meeting Agendas:  https://go.boarddocs.com/ca/jusdca/Board.nsf/Public
URL:https://democratsofgreaterriverside.com/event/jurupa-valley-school-board-6/
LOCATION:Benita B. Roberts Education Center\, 4850 Pedley Road\, Jurupa Valley\, CA\, 92509\, United States
CATEGORIES:School Board
END:VEVENT
BEGIN:VEVENT
DTSTART;TZID=America/Los_Angeles:20251118T170000
DTEND;TZID=America/Los_Angeles:20251118T200000
DTSTAMP:20260423T015724
CREATED:20250808T144934Z
LAST-MODIFIED:20250808T144934Z
UID:10000124-1763485200-1763496000@democratsofgreaterriverside.com
SUMMARY:Moreno Valley School Board
DESCRIPTION:Regular meetings are held in person\, in the Board Room. and is open to the public.  Meeting Agendas:   https://simbli.eboardsolutions.com/SB_Meetings/SB_MeetingListing.aspx?S=36030335
URL:https://democratsofgreaterriverside.com/event/moreno-valley-school-board-7/
LOCATION:Moreno Valley Community Education Center\, 25634 Alessandro Boulevard\, Moreno Valley\, CA\, 92553\, United States
CATEGORIES:School Board
END:VEVENT
BEGIN:VEVENT
DTSTART;TZID=America/Los_Angeles:20251118T130000
DTEND;TZID=America/Los_Angeles:20251118T170000
DTSTAMP:20260423T015724
CREATED:20250807T174627Z
LAST-MODIFIED:20250808T161000Z
UID:10000101-1763470800-1763485200@democratsofgreaterriverside.com
SUMMARY:Riverside City Council
DESCRIPTION:The City of Riverside is committed to providing high quality municipal services to ensure a safe\, inclusive\, and livable community. \nPublic comments regarding items on any matters within the jurisdiction of the City Council can be submitted via the eComment feature at riversideca.gov/meeting until two hours before the meeting or email comments to city_clerk@riverside.gov \nMeeting Agendas: riversideca.legistar.com/Calendar.aspx \nLIVE – RiversideTV:  YouTube Live
URL:https://democratsofgreaterriverside.com/event/riverside-city-council-6/
LOCATION:City Hall – Art Pick Council Chamber\, 3900 Main Street\, Riverside\, CA\, 92501\, United States
CATEGORIES:City Council,Public Meeting
END:VEVENT
BEGIN:VEVENT
DTSTART;TZID=America/Los_Angeles:20251118T093000
DTEND;TZID=America/Los_Angeles:20251118T120000
DTSTAMP:20260423T015724
CREATED:20250807T173328Z
LAST-MODIFIED:20250808T162036Z
UID:10000094-1763458200-1763467200@democratsofgreaterriverside.com
SUMMARY:Riv. County Board of Supervisors
DESCRIPTION:The Board of Supervisors is the governing body of the County\, certain special districts and the Housing Authority. The Board enacts ordinances and resolutions\, adopts the annual budget\, approves contracts\, appropriates funds\, determines land use zoning for the unincorporated areas\, as well as appoints certain County officers and members of various boards and commissions. \nMeeting Agendas: riversidecountyca.iqm2.com/Citizens
URL:https://democratsofgreaterriverside.com/event/riv-county-board-of-supervisors-8/
LOCATION:County Administrative Center\, 4080 Lemon Street\, Riverside\, CA\, 92501\, United States
CATEGORIES:County Meeting,Public Meeting
END:VEVENT
BEGIN:VEVENT
DTSTART;TZID=America/Los_Angeles:20251113T180000
DTEND;TZID=America/Los_Angeles:20251113T203000
DTSTAMP:20260423T015724
CREATED:20250808T155249Z
LAST-MODIFIED:20250808T155249Z
UID:10000178-1763056800-1763065800@democratsofgreaterriverside.com
SUMMARY:Woodcrest MAC
DESCRIPTION:The Woodcrest MAC organizes Municipal Advisory Council Meetings to keep the community advised of issues and concerns and to provide a dialogue between members of the community and county staff representing various agencies. \nMeeting Info:   https://rivcodistrict2.org/woodcrest-mac
URL:https://democratsofgreaterriverside.com/event/woodcrest-mac-2/
LOCATION:Woodcrest Library\, 16625 Krameria Avenue\, RIVERSIDE\, CA\, 92504\, United States
CATEGORIES:County Meeting
END:VEVENT
BEGIN:VEVENT
DTSTART;TZID=America/Los_Angeles:20251106T190000
DTEND;TZID=America/Los_Angeles:20251106T210000
DTSTAMP:20260423T015724
CREATED:20250808T151049Z
LAST-MODIFIED:20250808T151049Z
UID:10000165-1762455600-1762462800@democratsofgreaterriverside.com
SUMMARY:Jurupa Valley City Council
DESCRIPTION:The Jurupa Valley City Council meets at 7:00 p.m. on the first and third Thursday of each month in the City Hall Council Chambers.   Meeting Agendas:  https://www.jurupavalley.org/AgendaCenter
URL:https://democratsofgreaterriverside.com/event/jurupa-valley-city-council-7/
LOCATION:Jurupa Valley City Hall\, 8930 Limonite Avenue\, Jurupa Valley\, CA\, 92509\, United States
CATEGORIES:City Council
END:VEVENT
BEGIN:VEVENT
DTSTART;TZID=America/Los_Angeles:20251106T180000
DTEND;TZID=America/Los_Angeles:20251106T210000
DTSTAMP:20260423T015724
CREATED:20250808T144524Z
LAST-MODIFIED:20250808T144524Z
UID:10000115-1762452000-1762462800@democratsofgreaterriverside.com
SUMMARY:Alvord School Board
DESCRIPTION:Board meetings are held the first and third Thursday of the month in the District Office Board Room followed by Closed Session.  Student/Employee Recognitions and Open Session begin at 6:00 p.m. All meetings are open to the public.      Meeting Agendas:  https://simbli.eboardsolutions.com/SB_Meetings/SB_MeetingListing.aspx?S=36030510
URL:https://democratsofgreaterriverside.com/event/alvord-school-board-6/
LOCATION:Alvord District Office Board Room\, 9 KPC Parkway\, Corona\, CA\, 92879\, United States
CATEGORIES:School Board
END:VEVENT
BEGIN:VEVENT
DTSTART;TZID=America/Los_Angeles:20251106T173000
DTEND;TZID=America/Los_Angeles:20251106T203000
DTSTAMP:20260423T015724
CREATED:20250807T153027Z
LAST-MODIFIED:20251023T152243Z
UID:10000063-1762450200-1762461000@democratsofgreaterriverside.com
SUMMARY:Executive Board Meeting
DESCRIPTION:E-Board meetings are open to DGR Members in Good Standing. If you wish to attend this DGR E-Board meeting\, please contact Info@DemocratsOfGreaterRiverside.com at least 48 hours in advance of this DGR E-Board meeting to be advised as to the location.
URL:https://democratsofgreaterriverside.com/event/executive-board-meeting/
LOCATION:Private (address upon RSVP)
CATEGORIES:E-Board Meeting
ORGANIZER;CN="Democrats of Greater Riverside":MAILTO:info@democratsofgreaterriverside.com
END:VEVENT
BEGIN:VEVENT
DTSTART;TZID=America/Los_Angeles:20251106T173000
DTEND;TZID=America/Los_Angeles:20251106T190000
DTSTAMP:20260423T015724
CREATED:20250807T171533Z
LAST-MODIFIED:20250808T141138Z
UID:10000084-1762450200-1762455600@democratsofgreaterriverside.com
SUMMARY:RUSD Board Meeting
DESCRIPTION:The Board of Education typically meets on Thursday nights for meetings unless otherwise noted. Members of the public are invited and encouraged to attend all Board meetings and meetings will take place in the Board Room at the Riverside Adult School\, which is located at 6735 Magnolia Avenue\, Riverside\, 92506\, unless otherwise noted. Meetings begin at 4:00 p.m. and the Board will immediately adjourn to Closed Session after Public Input on Closed Session items has been heard\, the Board will reconvene in Open Session at 5:30 p.m. unless otherwise noted.\nMeeting Agendas & Info:  https://simbli.eboardsolutions.com/SB_Meetings/SB_MeetingListing.aspx?S=36030406
URL:https://democratsofgreaterriverside.com/event/rusd-board-meeting-4/
LOCATION:Riverside Adult School\, 6735 Magnolia Avenue\, Riverside\, CA\, 92506\, United States
CATEGORIES:Public Meeting,School Board
END:VEVENT
BEGIN:VEVENT
DTSTART;TZID=America/Los_Angeles:20251105T180000
DTEND;TZID=America/Los_Angeles:20251105T203000
DTSTAMP:20260423T015724
CREATED:20250808T153305Z
LAST-MODIFIED:20250808T153305Z
UID:10000174-1762365600-1762374600@democratsofgreaterriverside.com
SUMMARY:Corona City Council
DESCRIPTION:The Corona City Council meets on the first and third Wednesdays of each month. Meetings are held at 6:00 PM in the City Hall Council Chambers.   Meeting Agendas:  https://www.coronaca.gov/government/mayor-city-council/meeting-agendas-and-videos
URL:https://democratsofgreaterriverside.com/event/corona-city-council-6/
LOCATION:Corona City Hall\, 400 S. Vicentia Avenue\, Corona\, CA\, 92882\, United States
CATEGORIES:City Council
END:VEVENT
BEGIN:VEVENT
DTSTART;TZID=America/Los_Angeles:20251104T180000
DTEND;TZID=America/Los_Angeles:20251104T200000
DTSTAMP:20260423T015724
CREATED:20250808T145304Z
LAST-MODIFIED:20250808T145304Z
UID:10000132-1762279200-1762286400@democratsofgreaterriverside.com
SUMMARY:Moreno Valley City Council Meeting
DESCRIPTION:City Councilmembers\, during council meetings\, listen to citizens\, allocate funds\, and make crucial decisions essential to the City’s future.  Meeting Agendas:  https://www.moval.gov/city_council/agendas-escribe.html
URL:https://democratsofgreaterriverside.com/event/moreno-valley-city-council-meeting-7/
LOCATION:Moreno Valley City Hall Council Chamber\, 14177 Frederick St\, Moreno Valley\, CA\, 92553\, United States
CATEGORIES:City Council
END:VEVENT
BEGIN:VEVENT
DTSTART;TZID=America/Los_Angeles:20251104T130000
DTEND;TZID=America/Los_Angeles:20251104T170000
DTSTAMP:20260423T015724
CREATED:20250807T174613Z
LAST-MODIFIED:20250808T160910Z
UID:10000100-1762261200-1762275600@democratsofgreaterriverside.com
SUMMARY:Riverside City Council
DESCRIPTION:The City of Riverside is committed to providing high quality municipal services to ensure a safe\, inclusive\, and livable community. \nPublic comments regarding items on any matters within the jurisdiction of the City Council can be submitted via the eComment feature at riversideca.gov/meeting until two hours before the meeting or email comments to city_clerk@riverside.gov \nMeeting Agendas: riversideca.legistar.com/Calendar.aspx \nLIVE – RiversideTV:  YouTube Live
URL:https://democratsofgreaterriverside.com/event/riverside-city-council-5/
LOCATION:City Hall – Art Pick Council Chamber\, 3900 Main Street\, Riverside\, CA\, 92501\, United States
CATEGORIES:City Council,Public Meeting
END:VEVENT
BEGIN:VEVENT
DTSTART;TZID=America/Los_Angeles:20251104T093000
DTEND;TZID=America/Los_Angeles:20251104T120000
DTSTAMP:20260423T015724
CREATED:20250807T173312Z
LAST-MODIFIED:20250808T161952Z
UID:10000093-1762248600-1762257600@democratsofgreaterriverside.com
SUMMARY:Riv. County Board of Supervisors
DESCRIPTION:The Board of Supervisors is the governing body of the County\, certain special districts and the Housing Authority. The Board enacts ordinances and resolutions\, adopts the annual budget\, approves contracts\, appropriates funds\, determines land use zoning for the unincorporated areas\, as well as appoints certain County officers and members of various boards and commissions. \nMeeting Agendas: riversidecountyca.iqm2.com/Citizens
URL:https://democratsofgreaterriverside.com/event/riv-county-board-of-supervisors-7/
LOCATION:County Administrative Center\, 4080 Lemon Street\, Riverside\, CA\, 92501\, United States
CATEGORIES:County Meeting,Public Meeting
END:VEVENT
BEGIN:VEVENT
DTSTART;VALUE=DATE:20251104
DTEND;VALUE=DATE:20251105
DTSTAMP:20260423T015724
CREATED:20251023T152514Z
LAST-MODIFIED:20251023T152528Z
UID:10000215-1762214400-1762300799@democratsofgreaterriverside.com
SUMMARY:ELECTION DAY!
DESCRIPTION:Special Election!  Prop 50!
URL:https://democratsofgreaterriverside.com/event/election-day/
CATEGORIES:Special Event
END:VEVENT
BEGIN:VEVENT
DTSTART;TZID=America/Los_Angeles:20251102T100000
DTEND;TZID=America/Los_Angeles:20251102T140000
DTSTAMP:20260423T015724
CREATED:20251023T152107Z
LAST-MODIFIED:20251023T152127Z
UID:10000214-1762077600-1762092000@democratsofgreaterriverside.com
SUMMARY:GOTV Canvass for Prop 50 in Riverside!
DESCRIPTION:Come knock doors with the Democrats of Greater Riverside in support of Prop 50. President Trump and his allies know they cannot win at the ballot box because of their deeply harmful and unpopular policies\, so they’re trying to rig the 2026 midterm election to keep themselves in power. Prop 50 is how California can fight back! \nDETAILS HERE: GOTV Canvass for Prop 50 in Riverside! · California Democratic Party
URL:https://democratsofgreaterriverside.com/event/gotv-canvass-for-prop-50-in-riverside/
LOCATION:Orange Terrace Community Park\, 20010 Orange Terrace Pkwy\, RIVERSIDE\, CA\, 92508\, United States
CATEGORIES:Voter Outreach
END:VEVENT
BEGIN:VEVENT
DTSTART;TZID=America/Los_Angeles:20251028T170000
DTEND;TZID=America/Los_Angeles:20251028T200000
DTSTAMP:20260423T015724
CREATED:20250808T144919Z
LAST-MODIFIED:20250808T144919Z
UID:10000123-1761670800-1761681600@democratsofgreaterriverside.com
SUMMARY:Moreno Valley School Board
DESCRIPTION:Regular meetings are held in person\, in the Board Room. and is open to the public.  Meeting Agendas:   https://simbli.eboardsolutions.com/SB_Meetings/SB_MeetingListing.aspx?S=36030335
URL:https://democratsofgreaterriverside.com/event/moreno-valley-school-board-6/
LOCATION:Moreno Valley Community Education Center\, 25634 Alessandro Boulevard\, Moreno Valley\, CA\, 92553\, United States
CATEGORIES:School Board
END:VEVENT
BEGIN:VEVENT
DTSTART;TZID=America/Los_Angeles:20251028T130000
DTEND;TZID=America/Los_Angeles:20251028T170000
DTSTAMP:20260423T015724
CREATED:20250807T174600Z
LAST-MODIFIED:20250808T160804Z
UID:10000099-1761656400-1761670800@democratsofgreaterriverside.com
SUMMARY:Riverside City Council
DESCRIPTION:The City of Riverside is committed to providing high quality municipal services to ensure a safe\, inclusive\, and livable community. \nPublic comments regarding items on any matters within the jurisdiction of the City Council can be submitted via the eComment feature at riversideca.gov/meeting until two hours before the meeting or email comments to city_clerk@riverside.gov \nMeeting Agendas: riversideca.legistar.com/Calendar.aspx \nLIVE – RiversideTV:  YouTube Live
URL:https://democratsofgreaterriverside.com/event/riverside-city-council-4/
LOCATION:City Hall – Art Pick Council Chamber\, 3900 Main Street\, Riverside\, CA\, 92501\, United States
CATEGORIES:City Council,Public Meeting
END:VEVENT
BEGIN:VEVENT
DTSTART;TZID=America/Los_Angeles:20251028T093000
DTEND;TZID=America/Los_Angeles:20251028T120000
DTSTAMP:20260423T015724
CREATED:20250807T173259Z
LAST-MODIFIED:20250808T161916Z
UID:10000092-1761643800-1761652800@democratsofgreaterriverside.com
SUMMARY:Riv. County Board of Supervisors
DESCRIPTION:The Board of Supervisors is the governing body of the County\, certain special districts and the Housing Authority. The Board enacts ordinances and resolutions\, adopts the annual budget\, approves contracts\, appropriates funds\, determines land use zoning for the unincorporated areas\, as well as appoints certain County officers and members of various boards and commissions. \nMeeting Agendas: riversidecountyca.iqm2.com/Citizens
URL:https://democratsofgreaterriverside.com/event/riv-county-board-of-supervisors-6/
LOCATION:County Administrative Center\, 4080 Lemon Street\, Riverside\, CA\, 92501\, United States
CATEGORIES:County Meeting,Public Meeting
END:VEVENT
BEGIN:VEVENT
DTSTART;TZID=America/Los_Angeles:20251025T160000
DTEND;TZID=America/Los_Angeles:20251025T180000
DTSTAMP:20260423T015724
CREATED:20251023T151621Z
LAST-MODIFIED:20251023T151621Z
UID:10000212-1761408000-1761415200@democratsofgreaterriverside.com
SUMMARY:AD-58 & Riverside City Council Ward 2 Candidate Forum
DESCRIPTION:Meeting Registration – Zoom
URL:https://democratsofgreaterriverside.com/event/ad-58-riverside-city-council-ward-2-candidate-forum/
LOCATION:Virtual Event (Zoom)
CATEGORIES:Local Candidate Event
END:VEVENT
BEGIN:VEVENT
DTSTART;TZID=America/Los_Angeles:20251025T100000
DTEND;TZID=America/Los_Angeles:20251025T130000
DTSTAMP:20260423T015724
CREATED:20251023T151754Z
LAST-MODIFIED:20251023T151754Z
UID:10000213-1761386400-1761397200@democratsofgreaterriverside.com
SUMMARY:GOTV Canvass for Prop 50 in Moreno Valley!
DESCRIPTION:Come knock doors with Planned Parenthood Action Fund in support of Prop 50. President Trump and his allies know they cannot win at the ballot box because of their deeply harmful and unpopular policies\, so they’re trying to rig the 2026 midterm election to keep themselves in power. Prop 50 is how California can fight back! \nDETAILS HERE:  GOTV Canvass for Prop 50 in Moreno Valley! · California Democratic Party
URL:https://democratsofgreaterriverside.com/event/gotv-canvass-for-prop-50-in-moreno-valley/
LOCATION:Private (address upon RSVP)
CATEGORIES:Voter Outreach
END:VEVENT
BEGIN:VEVENT
DTSTART;TZID=America/Los_Angeles:20251021T180000
DTEND;TZID=America/Los_Angeles:20251021T200000
DTSTAMP:20260423T015724
CREATED:20250808T145251Z
LAST-MODIFIED:20250808T145251Z
UID:10000131-1761069600-1761076800@democratsofgreaterriverside.com
SUMMARY:Moreno Valley City Council Meeting
DESCRIPTION:City Councilmembers\, during council meetings\, listen to citizens\, allocate funds\, and make crucial decisions essential to the City’s future.  Meeting Agendas:  https://www.moval.gov/city_council/agendas-escribe.html
URL:https://democratsofgreaterriverside.com/event/moreno-valley-city-council-meeting-6/
LOCATION:Moreno Valley City Hall Council Chamber\, 14177 Frederick St\, Moreno Valley\, CA\, 92553\, United States
CATEGORIES:City Council
END:VEVENT
BEGIN:VEVENT
DTSTART;TZID=America/Los_Angeles:20251021T180000
DTEND;TZID=America/Los_Angeles:20251021T190000
DTSTAMP:20260423T015724
CREATED:20250808T150455Z
LAST-MODIFIED:20250808T150455Z
UID:10000156-1761069600-1761073200@democratsofgreaterriverside.com
SUMMARY:Jurupa Valley School Board
DESCRIPTION:The Board meetings are held Tuesdays at 5:00 p.m. and will be held in the Board Room at the Benita B. Roberts Education Center.   Meeting Agendas:  https://go.boarddocs.com/ca/jusdca/Board.nsf/Public
URL:https://democratsofgreaterriverside.com/event/jurupa-valley-school-board-5/
LOCATION:Benita B. Roberts Education Center\, 4850 Pedley Road\, Jurupa Valley\, CA\, 92509\, United States
CATEGORIES:School Board
END:VEVENT
BEGIN:VEVENT
DTSTART;TZID=America/Los_Angeles:20251021T130000
DTEND;TZID=America/Los_Angeles:20251021T170000
DTSTAMP:20260423T015724
CREATED:20250807T174545Z
LAST-MODIFIED:20250808T160716Z
UID:10000098-1761051600-1761066000@democratsofgreaterriverside.com
SUMMARY:Riverside City Council
DESCRIPTION:The City of Riverside is committed to providing high quality municipal services to ensure a safe\, inclusive\, and livable community. \nPublic comments regarding items on any matters within the jurisdiction of the City Council can be submitted via the eComment feature at riversideca.gov/meeting until two hours before the meeting or email comments to city_clerk@riverside.gov \nMeeting Agendas: riversideca.legistar.com/Calendar.aspx \nLIVE – RiversideTV:  YouTube Live
URL:https://democratsofgreaterriverside.com/event/riverside-city-council-3/
LOCATION:City Hall – Art Pick Council Chamber\, 3900 Main Street\, Riverside\, CA\, 92501\, United States
CATEGORIES:City Council,Public Meeting
END:VEVENT
BEGIN:VEVENT
DTSTART;TZID=America/Los_Angeles:20251018T173000
DTEND;TZID=America/Los_Angeles:20251018T193000
DTSTAMP:20260423T015724
CREATED:20250922T054923Z
LAST-MODIFIED:20250922T054939Z
UID:10000208-1760808600-1760815800@democratsofgreaterriverside.com
SUMMARY:NO KINGS! Protest - Downtown Riverside
DESCRIPTION:n America\, we don’t put up with would-be kings. \nOur peaceful movement is only getting bigger and stronger. “NO KINGS” is more than just a slogan—it’s the foundation our nation was built upon. Born in the streets\, carried by millions in chants and on posters\, it echoes from city blocks to rural town squares\, uniting people across this country to fight dictatorship together. \nThe president thinks his rule is absolute. But in America\, we don’t have kings\, and we won’t back down against chaos\, corruption\, and cruelty. Grow our movement and join us. \nMORE INFO HERE
URL:https://democratsofgreaterriverside.com/event/no-kings-protest-downtown-riverside/
LOCATION:Downtown Riverside\, 3900 Main St\, RIVERSIDE\, CA\, 92508\, United States
CATEGORIES:Rally / Protest
END:VEVENT
BEGIN:VEVENT
DTSTART;TZID=America/Los_Angeles:20251018T100000
DTEND;TZID=America/Los_Angeles:20251018T140000
DTSTAMP:20260423T015724
CREATED:20250922T053043Z
LAST-MODIFIED:20250922T053043Z
UID:10000206-1760781600-1760796000@democratsofgreaterriverside.com
SUMMARY:Canvass for Prop 50 in Riverside w/ Rep. Mark Takano!
DESCRIPTION:Join the Riverside County Democratic Party and the Democrats of Greater Riverside as we knock on doors to protect democracy and push back against the Trump/MAGA agenda. \n📍 Location: Riverside \n📅 Date & Time: Saturday\, October 18th at 10AM \n🎤 Special Guest: Congressman Mark Takano will kick off our canvass! \nWith Trump trying to rig the midterms\, passing Prop 50 is our best chance to fight back and take back Congress in 2026. Face to face conversations are the best way to persuade and turn out our voters. We’ll do a short training on the script and FAQs and we have walk pieces to share with folks. \nSIGN-UP HERE
URL:https://democratsofgreaterriverside.com/event/canvass-for-prop-50-in-riverside-w-rep-mark-takano/
LOCATION:Private (address upon RSVP)
CATEGORIES:Voter Outreach
END:VEVENT
BEGIN:VEVENT
DTSTART;TZID=America/Los_Angeles:20251016T190000
DTEND;TZID=America/Los_Angeles:20251016T210000
DTSTAMP:20260423T015724
CREATED:20250808T150850Z
LAST-MODIFIED:20250808T150850Z
UID:10000164-1760641200-1760648400@democratsofgreaterriverside.com
SUMMARY:Jurupa Valley City Council
DESCRIPTION:The Jurupa Valley City Council meets at 7:00 p.m. on the first and third Thursday of each month in the City Hall Council Chambers.   Meeting Agendas:  https://www.jurupavalley.org/AgendaCenter
URL:https://democratsofgreaterriverside.com/event/jurupa-valley-city-council-6/
LOCATION:Jurupa Valley City Hall\, 8930 Limonite Avenue\, Jurupa Valley\, CA\, 92509\, United States
CATEGORIES:City Council
END:VEVENT
BEGIN:VEVENT
DTSTART;TZID=America/Los_Angeles:20251016T180000
DTEND;TZID=America/Los_Angeles:20251016T210000
DTSTAMP:20260423T015724
CREATED:20250808T143118Z
LAST-MODIFIED:20250808T143118Z
UID:10000114-1760637600-1760648400@democratsofgreaterriverside.com
SUMMARY:Alvord School Board
DESCRIPTION:Board meetings are held the first and third Thursday of the month in the District Office Board Room followed by Closed Session.  Student/Employee Recognitions and Open Session begin at 6:00 p.m. All meetings are open to the public.      Meeting Agendas:  https://simbli.eboardsolutions.com/SB_Meetings/SB_MeetingListing.aspx?S=36030510
URL:https://democratsofgreaterriverside.com/event/alvord-school-board-5/
LOCATION:Alvord District Office Board Room\, 9 KPC Parkway\, Corona\, CA\, 92879\, United States
CATEGORIES:School Board
END:VEVENT
BEGIN:VEVENT
DTSTART;TZID=America/Los_Angeles:20251016T173000
DTEND;TZID=America/Los_Angeles:20251016T190000
DTSTAMP:20260423T015724
CREATED:20250807T171520Z
LAST-MODIFIED:20250808T141121Z
UID:10000083-1760635800-1760641200@democratsofgreaterriverside.com
SUMMARY:RUSD Board Meeting
DESCRIPTION:The Board of Education typically meets on Thursday nights for meetings unless otherwise noted. Members of the public are invited and encouraged to attend all Board meetings and meetings will take place in the Board Room at the Riverside Adult School\, which is located at 6735 Magnolia Avenue\, Riverside\, 92506\, unless otherwise noted. Meetings begin at 4:00 p.m. and the Board will immediately adjourn to Closed Session after Public Input on Closed Session items has been heard\, the Board will reconvene in Open Session at 5:30 p.m. unless otherwise noted.\nMeeting Agendas & Info:  https://simbli.eboardsolutions.com/SB_Meetings/SB_MeetingListing.aspx?S=36030406
URL:https://democratsofgreaterriverside.com/event/rusd-board-meeting-3/
LOCATION:Riverside Adult School\, 6735 Magnolia Avenue\, Riverside\, CA\, 92506\, United States
CATEGORIES:Public Meeting,School Board
END:VEVENT
END:VCALENDAR