BEGIN:VCALENDAR
VERSION:2.0
PRODID:-//Democrats of Greater Riverside - ECPv6.15.12.2//NONSGML v1.0//EN
CALSCALE:GREGORIAN
METHOD:PUBLISH
X-WR-CALNAME:Democrats of Greater Riverside
X-ORIGINAL-URL:https://democratsofgreaterriverside.com
X-WR-CALDESC:Events for Democrats of Greater Riverside
REFRESH-INTERVAL;VALUE=DURATION:PT1H
X-Robots-Tag:noindex
X-PUBLISHED-TTL:PT1H
BEGIN:VTIMEZONE
TZID:America/Los_Angeles
BEGIN:DAYLIGHT
TZOFFSETFROM:-0800
TZOFFSETTO:-0700
TZNAME:PDT
DTSTART:20240310T100000
END:DAYLIGHT
BEGIN:STANDARD
TZOFFSETFROM:-0700
TZOFFSETTO:-0800
TZNAME:PST
DTSTART:20241103T090000
END:STANDARD
BEGIN:DAYLIGHT
TZOFFSETFROM:-0800
TZOFFSETTO:-0700
TZNAME:PDT
DTSTART:20250309T100000
END:DAYLIGHT
BEGIN:STANDARD
TZOFFSETFROM:-0700
TZOFFSETTO:-0800
TZNAME:PST
DTSTART:20251102T090000
END:STANDARD
BEGIN:DAYLIGHT
TZOFFSETFROM:-0800
TZOFFSETTO:-0700
TZNAME:PDT
DTSTART:20260308T100000
END:DAYLIGHT
BEGIN:STANDARD
TZOFFSETFROM:-0700
TZOFFSETTO:-0800
TZNAME:PST
DTSTART:20261101T090000
END:STANDARD
END:VTIMEZONE
BEGIN:VEVENT
DTSTART;TZID=America/Los_Angeles:20251021T130000
DTEND;TZID=America/Los_Angeles:20251021T170000
DTSTAMP:20260423T015754
CREATED:20250807T174545Z
LAST-MODIFIED:20250808T160716Z
UID:10000098-1761051600-1761066000@democratsofgreaterriverside.com
SUMMARY:Riverside City Council
DESCRIPTION:The City of Riverside is committed to providing high quality municipal services to ensure a safe\, inclusive\, and livable community. \nPublic comments regarding items on any matters within the jurisdiction of the City Council can be submitted via the eComment feature at riversideca.gov/meeting until two hours before the meeting or email comments to city_clerk@riverside.gov \nMeeting Agendas: riversideca.legistar.com/Calendar.aspx \nLIVE – RiversideTV:  YouTube Live
URL:https://democratsofgreaterriverside.com/event/riverside-city-council-3/
LOCATION:City Hall – Art Pick Council Chamber\, 3900 Main Street\, Riverside\, CA\, 92501\, United States
CATEGORIES:City Council,Public Meeting
END:VEVENT
BEGIN:VEVENT
DTSTART;TZID=America/Los_Angeles:20251018T173000
DTEND;TZID=America/Los_Angeles:20251018T193000
DTSTAMP:20260423T015754
CREATED:20250922T054923Z
LAST-MODIFIED:20250922T054939Z
UID:10000208-1760808600-1760815800@democratsofgreaterriverside.com
SUMMARY:NO KINGS! Protest - Downtown Riverside
DESCRIPTION:n America\, we don’t put up with would-be kings. \nOur peaceful movement is only getting bigger and stronger. “NO KINGS” is more than just a slogan—it’s the foundation our nation was built upon. Born in the streets\, carried by millions in chants and on posters\, it echoes from city blocks to rural town squares\, uniting people across this country to fight dictatorship together. \nThe president thinks his rule is absolute. But in America\, we don’t have kings\, and we won’t back down against chaos\, corruption\, and cruelty. Grow our movement and join us. \nMORE INFO HERE
URL:https://democratsofgreaterriverside.com/event/no-kings-protest-downtown-riverside/
LOCATION:Downtown Riverside\, 3900 Main St\, RIVERSIDE\, CA\, 92508\, United States
CATEGORIES:Rally / Protest
END:VEVENT
BEGIN:VEVENT
DTSTART;TZID=America/Los_Angeles:20251018T100000
DTEND;TZID=America/Los_Angeles:20251018T140000
DTSTAMP:20260423T015754
CREATED:20250922T053043Z
LAST-MODIFIED:20250922T053043Z
UID:10000206-1760781600-1760796000@democratsofgreaterriverside.com
SUMMARY:Canvass for Prop 50 in Riverside w/ Rep. Mark Takano!
DESCRIPTION:Join the Riverside County Democratic Party and the Democrats of Greater Riverside as we knock on doors to protect democracy and push back against the Trump/MAGA agenda. \n📍 Location: Riverside \n📅 Date & Time: Saturday\, October 18th at 10AM \n🎤 Special Guest: Congressman Mark Takano will kick off our canvass! \nWith Trump trying to rig the midterms\, passing Prop 50 is our best chance to fight back and take back Congress in 2026. Face to face conversations are the best way to persuade and turn out our voters. We’ll do a short training on the script and FAQs and we have walk pieces to share with folks. \nSIGN-UP HERE
URL:https://democratsofgreaterriverside.com/event/canvass-for-prop-50-in-riverside-w-rep-mark-takano/
LOCATION:Private (address upon RSVP)
CATEGORIES:Voter Outreach
END:VEVENT
BEGIN:VEVENT
DTSTART;TZID=America/Los_Angeles:20251016T190000
DTEND;TZID=America/Los_Angeles:20251016T210000
DTSTAMP:20260423T015754
CREATED:20250808T150850Z
LAST-MODIFIED:20250808T150850Z
UID:10000164-1760641200-1760648400@democratsofgreaterriverside.com
SUMMARY:Jurupa Valley City Council
DESCRIPTION:The Jurupa Valley City Council meets at 7:00 p.m. on the first and third Thursday of each month in the City Hall Council Chambers.   Meeting Agendas:  https://www.jurupavalley.org/AgendaCenter
URL:https://democratsofgreaterriverside.com/event/jurupa-valley-city-council-6/
LOCATION:Jurupa Valley City Hall\, 8930 Limonite Avenue\, Jurupa Valley\, CA\, 92509\, United States
CATEGORIES:City Council
END:VEVENT
BEGIN:VEVENT
DTSTART;TZID=America/Los_Angeles:20251016T180000
DTEND;TZID=America/Los_Angeles:20251016T210000
DTSTAMP:20260423T015754
CREATED:20250808T143118Z
LAST-MODIFIED:20250808T143118Z
UID:10000114-1760637600-1760648400@democratsofgreaterriverside.com
SUMMARY:Alvord School Board
DESCRIPTION:Board meetings are held the first and third Thursday of the month in the District Office Board Room followed by Closed Session.  Student/Employee Recognitions and Open Session begin at 6:00 p.m. All meetings are open to the public.      Meeting Agendas:  https://simbli.eboardsolutions.com/SB_Meetings/SB_MeetingListing.aspx?S=36030510
URL:https://democratsofgreaterriverside.com/event/alvord-school-board-5/
LOCATION:Alvord District Office Board Room\, 9 KPC Parkway\, Corona\, CA\, 92879\, United States
CATEGORIES:School Board
END:VEVENT
BEGIN:VEVENT
DTSTART;TZID=America/Los_Angeles:20251016T173000
DTEND;TZID=America/Los_Angeles:20251016T190000
DTSTAMP:20260423T015754
CREATED:20250807T171520Z
LAST-MODIFIED:20250808T141121Z
UID:10000083-1760635800-1760641200@democratsofgreaterriverside.com
SUMMARY:RUSD Board Meeting
DESCRIPTION:The Board of Education typically meets on Thursday nights for meetings unless otherwise noted. Members of the public are invited and encouraged to attend all Board meetings and meetings will take place in the Board Room at the Riverside Adult School\, which is located at 6735 Magnolia Avenue\, Riverside\, 92506\, unless otherwise noted. Meetings begin at 4:00 p.m. and the Board will immediately adjourn to Closed Session after Public Input on Closed Session items has been heard\, the Board will reconvene in Open Session at 5:30 p.m. unless otherwise noted.\nMeeting Agendas & Info:  https://simbli.eboardsolutions.com/SB_Meetings/SB_MeetingListing.aspx?S=36030406
URL:https://democratsofgreaterriverside.com/event/rusd-board-meeting-3/
LOCATION:Riverside Adult School\, 6735 Magnolia Avenue\, Riverside\, CA\, 92506\, United States
CATEGORIES:Public Meeting,School Board
END:VEVENT
BEGIN:VEVENT
DTSTART;TZID=America/Los_Angeles:20251015T190000
DTEND;TZID=America/Los_Angeles:20251015T203000
DTSTAMP:20260423T015754
CREATED:20250807T151911Z
LAST-MODIFIED:20250807T153203Z
UID:10000050-1760554800-1760560200@democratsofgreaterriverside.com
SUMMARY:General Membership Meeting
DESCRIPTION:Join us for this month’s General Membership Meeting. \n\nHybrid Format: Attend in-person or via Zoom—your choice!\nSocial Time: Arrive early by 6:30 PM to grab dinner or drinks and mingle before the meeting.\nProgram: Most meetings feature a guest speaker and a call to action. Follow us on social media for the latest speaker announcements.\n\nMeeting Location & Zoom Info\n\nDGR Members: Meeting details\, including the venue and Zoom link\, are shared in our DGR Member Newsletter. If you’re a member and haven’t received the announcements\, please contact us.\nNon-Members & Guests: Per our club bylaws\, attendance is open to registered Democrats only. To be added to the guest list\, please complete our Meeting Invite Request Form below:\n\n👉Meeting Invite Request Form for Guests
URL:https://democratsofgreaterriverside.com/event/general-membership-meeting/
LOCATION:CA
CATEGORIES:General Meeting
ORGANIZER;CN="Democrats of Greater Riverside":MAILTO:info@democratsofgreaterriverside.com
END:VEVENT
BEGIN:VEVENT
DTSTART;TZID=America/Los_Angeles:20251014T170000
DTEND;TZID=America/Los_Angeles:20251014T200000
DTSTAMP:20260423T015754
CREATED:20250808T144904Z
LAST-MODIFIED:20250808T144904Z
UID:10000122-1760461200-1760472000@democratsofgreaterriverside.com
SUMMARY:Moreno Valley School Board
DESCRIPTION:Regular meetings are held in person\, in the Board Room. and is open to the public.  Meeting Agendas:   https://simbli.eboardsolutions.com/SB_Meetings/SB_MeetingListing.aspx?S=36030335
URL:https://democratsofgreaterriverside.com/event/moreno-valley-school-board-5/
LOCATION:Moreno Valley Community Education Center\, 25634 Alessandro Boulevard\, Moreno Valley\, CA\, 92553\, United States
CATEGORIES:School Board
END:VEVENT
BEGIN:VEVENT
DTSTART;TZID=America/Los_Angeles:20251014T170000
DTEND;TZID=America/Los_Angeles:20251014T193000
DTSTAMP:20260423T015754
CREATED:20250930T161538Z
LAST-MODIFIED:20251013T193706Z
UID:10000210-1760461200-1760470200@democratsofgreaterriverside.com
SUMMARY:Special Meeting: Riverside City Council
DESCRIPTION:Discussion Calendar – Resolution of the City Council affirming the City’s actions in supporting the importance of transparency\, community and public safety\, and clear identification standards in Federal immigration enforcement activities in the City of Riverside. \nTopic requested by Clarissa Cervantes (Ward 2) \nClick for more details
URL:https://democratsofgreaterriverside.com/event/special-meeting-riverside-city-council/
LOCATION:City Hall – Art Pick Council Chamber\, 3900 Main Street\, Riverside\, CA\, 92501\, United States
CATEGORIES:Government
END:VEVENT
BEGIN:VEVENT
DTSTART;TZID=America/Los_Angeles:20251011T120000
DTEND;TZID=America/Los_Angeles:20251011T160000
DTSTAMP:20260423T015754
CREATED:20250922T053320Z
LAST-MODIFIED:20250922T053320Z
UID:10000207-1760184000-1760198400@democratsofgreaterriverside.com
SUMMARY:Canvass for Prop 50 in Riverside!
DESCRIPTION:Come knock doors with the Democrats of Greater Riverside and help stop the Trump / MAGA agenda. Trump is trying to rig the midterm elections and passing Prop 50 is the best chance we have of stopping him and taking back Congress next year. \nFace to face conversations are the best way to persuade and turn out our voters. We’ll do a short training on the script and FAQs and we have walk pieces to share with folks. \nSIGN-UP HERE
URL:https://democratsofgreaterriverside.com/event/canvass-for-prop-50-in-riverside-2/
LOCATION:Private (address upon RSVP)
CATEGORIES:Voter Outreach
END:VEVENT
BEGIN:VEVENT
DTSTART;TZID=America/Los_Angeles:20251007T180000
DTEND;TZID=America/Los_Angeles:20251007T200000
DTSTAMP:20260423T015754
CREATED:20251007T184546Z
LAST-MODIFIED:20251007T184601Z
UID:10000211-1759860000-1759867200@democratsofgreaterriverside.com
SUMMARY:Virtual Townhall w/Rep. Mark Takano
DESCRIPTION:Join me tomorrow for a virtual town hall as the Republican government shutdown continues. I want to hear directly from you and answer your questions about a government shutdown and how Democrats are working to cancel the cuts\, lower the costs\, and save healthcare. \nhttps://us06web.zoom.us/…/reg…/WN__j8gn3QOTKqblZcklCfTxQ
URL:https://democratsofgreaterriverside.com/event/virtual-townhall-w-rep-mark-takano/
LOCATION:Virtual Event (Zoom)
CATEGORIES:Town Hall
END:VEVENT
BEGIN:VEVENT
DTSTART;TZID=America/Los_Angeles:20251007T180000
DTEND;TZID=America/Los_Angeles:20251007T200000
DTSTAMP:20260423T015754
CREATED:20250808T145235Z
LAST-MODIFIED:20250808T145235Z
UID:10000130-1759860000-1759867200@democratsofgreaterriverside.com
SUMMARY:Moreno Valley City Council Meeting
DESCRIPTION:City Councilmembers\, during council meetings\, listen to citizens\, allocate funds\, and make crucial decisions essential to the City’s future.  Meeting Agendas:  https://www.moval.gov/city_council/agendas-escribe.html
URL:https://democratsofgreaterriverside.com/event/moreno-valley-city-council-meeting-5/
LOCATION:Moreno Valley City Hall Council Chamber\, 14177 Frederick St\, Moreno Valley\, CA\, 92553\, United States
CATEGORIES:City Council
END:VEVENT
BEGIN:VEVENT
DTSTART;TZID=America/Los_Angeles:20251007T093000
DTEND;TZID=America/Los_Angeles:20251007T120000
DTSTAMP:20260423T015754
CREATED:20250807T172647Z
LAST-MODIFIED:20250808T161829Z
UID:10000091-1759829400-1759838400@democratsofgreaterriverside.com
SUMMARY:Riv. County Board of Supervisors
DESCRIPTION:The Board of Supervisors is the governing body of the County\, certain special districts and the Housing Authority. The Board enacts ordinances and resolutions\, adopts the annual budget\, approves contracts\, appropriates funds\, determines land use zoning for the unincorporated areas\, as well as appoints certain County officers and members of various boards and commissions. \nMeeting Agendas: riversidecountyca.iqm2.com/Citizens
URL:https://democratsofgreaterriverside.com/event/riv-county-board-of-supervisors-5/
LOCATION:County Administrative Center\, 4080 Lemon Street\, Riverside\, CA\, 92501\, United States
CATEGORIES:County Meeting,Public Meeting
END:VEVENT
BEGIN:VEVENT
DTSTART;TZID=America/Los_Angeles:20251002T190000
DTEND;TZID=America/Los_Angeles:20251002T210000
DTSTAMP:20260423T015754
CREATED:20250808T150832Z
LAST-MODIFIED:20250808T150832Z
UID:10000163-1759431600-1759438800@democratsofgreaterriverside.com
SUMMARY:Jurupa Valley City Council
DESCRIPTION:The Jurupa Valley City Council meets at 7:00 p.m. on the first and third Thursday of each month in the City Hall Council Chambers.   Meeting Agendas:  https://www.jurupavalley.org/AgendaCenter
URL:https://democratsofgreaterriverside.com/event/jurupa-valley-city-council-5/
LOCATION:Jurupa Valley City Hall\, 8930 Limonite Avenue\, Jurupa Valley\, CA\, 92509\, United States
CATEGORIES:City Council
END:VEVENT
BEGIN:VEVENT
DTSTART;TZID=America/Los_Angeles:20251002T180000
DTEND;TZID=America/Los_Angeles:20251002T210000
DTSTAMP:20260423T015754
CREATED:20250808T143104Z
LAST-MODIFIED:20250808T143104Z
UID:10000113-1759428000-1759438800@democratsofgreaterriverside.com
SUMMARY:Alvord School Board
DESCRIPTION:Board meetings are held the first and third Thursday of the month in the District Office Board Room followed by Closed Session.  Student/Employee Recognitions and Open Session begin at 6:00 p.m. All meetings are open to the public.      Meeting Agendas:  https://simbli.eboardsolutions.com/SB_Meetings/SB_MeetingListing.aspx?S=36030510
URL:https://democratsofgreaterriverside.com/event/alvord-school-board-4/
LOCATION:Alvord District Office Board Room\, 9 KPC Parkway\, Corona\, CA\, 92879\, United States
CATEGORIES:School Board
END:VEVENT
BEGIN:VEVENT
DTSTART;TZID=America/Los_Angeles:20251001T180000
DTEND;TZID=America/Los_Angeles:20251001T203000
DTSTAMP:20260423T015754
CREATED:20250808T153245Z
LAST-MODIFIED:20250808T153245Z
UID:10000173-1759341600-1759350600@democratsofgreaterriverside.com
SUMMARY:Corona City Council
DESCRIPTION:The Corona City Council meets on the first and third Wednesdays of each month. Meetings are held at 6:00 PM in the City Hall Council Chambers.   Meeting Agendas:  https://www.coronaca.gov/government/mayor-city-council/meeting-agendas-and-videos
URL:https://democratsofgreaterriverside.com/event/corona-city-council-5/
LOCATION:Corona City Hall\, 400 S. Vicentia Avenue\, Corona\, CA\, 92882\, United States
CATEGORIES:City Council
END:VEVENT
BEGIN:VEVENT
DTSTART;TZID=America/Los_Angeles:20250930T180000
DTEND;TZID=America/Los_Angeles:20250930T190000
DTSTAMP:20260423T015754
CREATED:20250808T150440Z
LAST-MODIFIED:20250808T150440Z
UID:10000155-1759255200-1759258800@democratsofgreaterriverside.com
SUMMARY:Jurupa Valley School Board
DESCRIPTION:The Board meetings are held Tuesdays at 5:00 p.m. and will be held in the Board Room at the Benita B. Roberts Education Center.   Meeting Agendas:  https://go.boarddocs.com/ca/jusdca/Board.nsf/Public
URL:https://democratsofgreaterriverside.com/event/jurupa-valley-school-board-4/
LOCATION:Benita B. Roberts Education Center\, 4850 Pedley Road\, Jurupa Valley\, CA\, 92509\, United States
CATEGORIES:School Board
END:VEVENT
BEGIN:VEVENT
DTSTART;TZID=America/Los_Angeles:20250930T070000
DTEND;TZID=America/Los_Angeles:20250930T123000
DTSTAMP:20260423T015754
CREATED:20250922T060809Z
LAST-MODIFIED:20250922T060809Z
UID:10000209-1759215600-1759235400@democratsofgreaterriverside.com
SUMMARY:Riverside County Women's Leadership Conference
DESCRIPTION:Get ready to be inspired by amazing women leaders at the Riverside County Women’s Leadership Conference! \n \nEVENT DETAILS HERE (use the promo code TATE for a discount!)
URL:https://democratsofgreaterriverside.com/event/riverside-county-womens-leadership-conference/
LOCATION:Crossroads Christian Church\, 2331 Kellogg Avenue\, Corona\, CA\, 92881\, United States
CATEGORIES:Community Event
END:VEVENT
BEGIN:VEVENT
DTSTART;TZID=America/Los_Angeles:20250925T183000
DTEND;TZID=America/Los_Angeles:20250925T203000
DTSTAMP:20260423T015754
CREATED:20250810T220735Z
LAST-MODIFIED:20250810T220735Z
UID:10000195-1758825000-1758832200@democratsofgreaterriverside.com
SUMMARY:School Boards - Monitors & Observers - Brown Act Training
DESCRIPTION:Free Interactive School Board Governance Brown Act specific training\, facilitated by First Amendment Coalition attorney and staff. \nMeeting will cover: Brown Act laws\, common compliance issues and how to identify them\, how to reduce proliferation of detrimental actions\, what to do with non-compliant board actions. \nSign-Up Here
URL:https://democratsofgreaterriverside.com/event/school-boards-monitors-observers-brown-act-training/
LOCATION:Virtual Event (Zoom)
CATEGORIES:Training
END:VEVENT
BEGIN:VEVENT
DTSTART;TZID=America/Los_Angeles:20250925T173000
DTEND;TZID=America/Los_Angeles:20250925T190000
DTSTAMP:20260423T015754
CREATED:20250807T171503Z
LAST-MODIFIED:20250808T141106Z
UID:10000082-1758821400-1758826800@democratsofgreaterriverside.com
SUMMARY:RUSD Board Meeting
DESCRIPTION:The Board of Education typically meets on Thursday nights for meetings unless otherwise noted. Members of the public are invited and encouraged to attend all Board meetings and meetings will take place in the Board Room at the Riverside Adult School\, which is located at 6735 Magnolia Avenue\, Riverside\, 92506\, unless otherwise noted. Meetings begin at 4:00 p.m. and the Board will immediately adjourn to Closed Session after Public Input on Closed Session items has been heard\, the Board will reconvene in Open Session at 5:30 p.m. unless otherwise noted.
URL:https://democratsofgreaterriverside.com/event/rusd-board-meeting-2/
LOCATION:Riverside Adult School\, 6735 Magnolia Avenue\, Riverside\, CA\, 92506\, United States
CATEGORIES:Public Meeting,School Board
END:VEVENT
BEGIN:VEVENT
DTSTART;TZID=America/Los_Angeles:20250923T170000
DTEND;TZID=America/Los_Angeles:20250923T200000
DTSTAMP:20260423T015754
CREATED:20250808T144851Z
LAST-MODIFIED:20250808T144851Z
UID:10000121-1758646800-1758657600@democratsofgreaterriverside.com
SUMMARY:Moreno Valley School Board
DESCRIPTION:Regular meetings are held in person\, in the Board Room. and is open to the public.  Meeting Agendas:   https://simbli.eboardsolutions.com/SB_Meetings/SB_MeetingListing.aspx?S=36030335
URL:https://democratsofgreaterriverside.com/event/moreno-valley-school-board-4/
LOCATION:Moreno Valley Community Education Center\, 25634 Alessandro Boulevard\, Moreno Valley\, CA\, 92553\, United States
CATEGORIES:School Board
END:VEVENT
BEGIN:VEVENT
DTSTART;TZID=America/Los_Angeles:20250921T120000
DTEND;TZID=America/Los_Angeles:20250921T160000
DTSTAMP:20260423T015754
CREATED:20250920T154511Z
LAST-MODIFIED:20250920T154527Z
UID:10000205-1758456000-1758470400@democratsofgreaterriverside.com
SUMMARY:Canvass for Prop 50 in Riverside!
DESCRIPTION:🎤 Special Guest: Congressman Mark Takano will kick off our canvass on Sunday\, September 21st at 12PM! \nCome knock doors with the Democrats of Greater Riverside and help stop the Trump / MAGA agenda. Trump is trying to rig the midterm elections and passing Prop 50 is the best chance we have of stopping him and taking back Congress next year. \nFace to face conversations are the best way to persuade and turn out our voters. We’ll do a short training on the script and FAQs and we have walk pieces to share with folks. \nSIGN UP HERE
URL:https://democratsofgreaterriverside.com/event/canvass-for-prop-50-in-riverside/
LOCATION:IBEW Local 47 Union Hall\, 1405 Spruce St\, Riverside\, CA\, 92507\, United States
CATEGORIES:Voter Outreach
END:VEVENT
BEGIN:VEVENT
DTSTART;TZID=America/Los_Angeles:20250920T100000
DTEND;TZID=America/Los_Angeles:20250920T120000
DTSTAMP:20260423T015754
CREATED:20250807T045836Z
LAST-MODIFIED:20250807T155603Z
UID:10000035-1758362400-1758369600@democratsofgreaterriverside.com
SUMMARY:Tesla Takedown Protest
DESCRIPTION:Peaceful protest aimed at challenging Elon Musk’s growing influence and his attacks on democracy. By targeting Tesla’s bottom line\, the movement seeks to drive down the company’s stock and push back against billionaire overreach. Participants emphasize that this is a nonviolent\, lawful demonstration grounded in First Amendment rights\, with the goal of protecting lives\, civil liberties\, and the future of the country.\nEvery Saturday from 10AM to NOON.
URL:https://democratsofgreaterriverside.com/event/tesla-takedown-protest-8/
LOCATION:Tesla Riverside\, 7920 Lindbergh Dr\, Riverside\, CA\, 92508\, United States
CATEGORIES:Rally / Protest
END:VEVENT
BEGIN:VEVENT
DTSTART;TZID=America/Los_Angeles:20250918T190000
DTEND;TZID=America/Los_Angeles:20250918T210000
DTSTAMP:20260423T015754
CREATED:20250808T150814Z
LAST-MODIFIED:20250808T150814Z
UID:10000162-1758222000-1758229200@democratsofgreaterriverside.com
SUMMARY:Jurupa Valley City Council
DESCRIPTION:The Jurupa Valley City Council meets at 7:00 p.m. on the first and third Thursday of each month in the City Hall Council Chambers.   Meeting Agendas:  https://www.jurupavalley.org/AgendaCenter
URL:https://democratsofgreaterriverside.com/event/jurupa-valley-city-council-4/
LOCATION:Jurupa Valley City Hall\, 8930 Limonite Avenue\, Jurupa Valley\, CA\, 92509\, United States
CATEGORIES:City Council
END:VEVENT
BEGIN:VEVENT
DTSTART;TZID=America/Los_Angeles:20250918T180000
DTEND;TZID=America/Los_Angeles:20250918T210000
DTSTAMP:20260423T015754
CREATED:20250808T143051Z
LAST-MODIFIED:20250808T143051Z
UID:10000112-1758218400-1758229200@democratsofgreaterriverside.com
SUMMARY:Alvord School Board
DESCRIPTION:Board meetings are held the first and third Thursday of the month in the District Office Board Room followed by Closed Session.  Student/Employee Recognitions and Open Session begin at 6:00 p.m. All meetings are open to the public.      Meeting Agendas:  https://simbli.eboardsolutions.com/SB_Meetings/SB_MeetingListing.aspx?S=36030510
URL:https://democratsofgreaterriverside.com/event/alvord-school-board-3/
LOCATION:Alvord District Office Board Room\, 9 KPC Parkway\, Corona\, CA\, 92879\, United States
CATEGORIES:School Board
END:VEVENT
BEGIN:VEVENT
DTSTART;TZID=America/Los_Angeles:20250917T190000
DTEND;TZID=America/Los_Angeles:20250917T203000
DTSTAMP:20260423T015754
CREATED:20250328T235025Z
LAST-MODIFIED:20250806T230747Z
UID:10000012-1758135600-1758141000@democratsofgreaterriverside.com
SUMMARY:General Membership Meeting
DESCRIPTION:Join us for this month’s General Membership Meeting. \n\nHybrid Format: Attend in-person or via Zoom—your choice!\nSocial Time: Arrive early by 6:30 PM to grab dinner or drinks and mingle before the meeting.\nProgram: Most meetings feature a guest speaker and a call to action. Follow us on social media for the latest speaker announcements.\n\nMeeting Location & Zoom Info\n\nDGR Members: Meeting details\, including the venue and Zoom link\, are shared in our DGR Member Newsletter. If you’re a member and haven’t received the announcements\, please contact us.\nNon-Members & Guests: Per our club bylaws\, attendance is open to registered Democrats only. To be added to the guest list\, please complete our Meeting Invite Request Form below:\n\n👉Meeting Invite Request Form for Guests
URL:https://democratsofgreaterriverside.com/event/general-membership-meeting-8/
LOCATION:CA
CATEGORIES:General Meeting
ORGANIZER;CN="Democrats of Greater Riverside":MAILTO:info@democratsofgreaterriverside.com
END:VEVENT
BEGIN:VEVENT
DTSTART;TZID=America/Los_Angeles:20250917T180000
DTEND;TZID=America/Los_Angeles:20250917T203000
DTSTAMP:20260423T015754
CREATED:20250808T153228Z
LAST-MODIFIED:20250808T153228Z
UID:10000172-1758132000-1758141000@democratsofgreaterriverside.com
SUMMARY:Corona City Council
DESCRIPTION:The Corona City Council meets on the first and third Wednesdays of each month. Meetings are held at 6:00 PM in the City Hall Council Chambers.   Meeting Agendas:  https://www.coronaca.gov/government/mayor-city-council/meeting-agendas-and-videos
URL:https://democratsofgreaterriverside.com/event/corona-city-council-4/
LOCATION:Corona City Hall\, 400 S. Vicentia Avenue\, Corona\, CA\, 92882\, United States
CATEGORIES:City Council
END:VEVENT
BEGIN:VEVENT
DTSTART;TZID=America/Los_Angeles:20250916T180000
DTEND;TZID=America/Los_Angeles:20250916T200000
DTSTAMP:20260423T015755
CREATED:20250808T145136Z
LAST-MODIFIED:20250808T145136Z
UID:10000129-1758045600-1758052800@democratsofgreaterriverside.com
SUMMARY:Moreno Valley City Council Meeting
DESCRIPTION:City Councilmembers\, during council meetings\, listen to citizens\, allocate funds\, and make crucial decisions essential to the City’s future.  Meeting Agendas:  https://www.moval.gov/city_council/agendas-escribe.html
URL:https://democratsofgreaterriverside.com/event/moreno-valley-city-council-meeting-4/
LOCATION:Moreno Valley City Hall Council Chamber\, 14177 Frederick St\, Moreno Valley\, CA\, 92553\, United States
CATEGORIES:City Council
END:VEVENT
BEGIN:VEVENT
DTSTART;TZID=America/Los_Angeles:20250916T180000
DTEND;TZID=America/Los_Angeles:20250916T193000
DTSTAMP:20260423T015755
CREATED:20250808T211132Z
LAST-MODIFIED:20250808T211150Z
UID:10000182-1758045600-1758051000@democratsofgreaterriverside.com
SUMMARY:CADEM Monthly Training Series: Organize in 2025\, Win in 2026!
DESCRIPTION:CADEM is holding monthly trainings July – December to help equip\, engage and motivate leaders\, partners and activists to win in 2026! Trainings are online\, free and open to anyone who shares our mission.\nTuesday\, September 16th – 6:00 – 7:30 PM – Messaging to Swing Voters \nCLICK HERE FOR DETAILS
URL:https://democratsofgreaterriverside.com/event/cadem-monthly-training-series-organize-in-2025-win-in-2026-2/
LOCATION:Virtual Event (Zoom)
CATEGORIES:Training
END:VEVENT
BEGIN:VEVENT
DTSTART;TZID=America/Los_Angeles:20250916T130000
DTEND;TZID=America/Los_Angeles:20250916T170000
DTSTAMP:20260423T015755
CREATED:20250807T174532Z
LAST-MODIFIED:20250808T160553Z
UID:10000097-1758027600-1758042000@democratsofgreaterriverside.com
SUMMARY:Riverside City Council
DESCRIPTION:The City of Riverside is committed to providing high quality municipal services to ensure a safe\, inclusive\, and livable community. \nPublic comments regarding items on any matters within the jurisdiction of the City Council can be submitted via the eComment feature at riversideca.gov/meeting until two hours before the meeting or email comments to city_clerk@riverside.gov \nMeeting Agendas: riversideca.legistar.com/Calendar.aspx \nLIVE – RiversideTV:  YouTube Live
URL:https://democratsofgreaterriverside.com/event/riverside-city-council-2/
LOCATION:CA
CATEGORIES:City Council,Public Meeting
END:VEVENT
END:VCALENDAR