BEGIN:VCALENDAR
VERSION:2.0
PRODID:-//Democrats of Greater Riverside - ECPv6.15.12.2//NONSGML v1.0//EN
CALSCALE:GREGORIAN
METHOD:PUBLISH
X-ORIGINAL-URL:https://democratsofgreaterriverside.com
X-WR-CALDESC:Events for Democrats of Greater Riverside
REFRESH-INTERVAL;VALUE=DURATION:PT1H
X-Robots-Tag:noindex
X-PUBLISHED-TTL:PT1H
BEGIN:VTIMEZONE
TZID:America/Los_Angeles
BEGIN:DAYLIGHT
TZOFFSETFROM:-0800
TZOFFSETTO:-0700
TZNAME:PDT
DTSTART:20240310T100000
END:DAYLIGHT
BEGIN:STANDARD
TZOFFSETFROM:-0700
TZOFFSETTO:-0800
TZNAME:PST
DTSTART:20241103T090000
END:STANDARD
BEGIN:DAYLIGHT
TZOFFSETFROM:-0800
TZOFFSETTO:-0700
TZNAME:PDT
DTSTART:20250309T100000
END:DAYLIGHT
BEGIN:STANDARD
TZOFFSETFROM:-0700
TZOFFSETTO:-0800
TZNAME:PST
DTSTART:20251102T090000
END:STANDARD
BEGIN:DAYLIGHT
TZOFFSETFROM:-0800
TZOFFSETTO:-0700
TZNAME:PDT
DTSTART:20260308T100000
END:DAYLIGHT
BEGIN:STANDARD
TZOFFSETFROM:-0700
TZOFFSETTO:-0800
TZNAME:PST
DTSTART:20261101T090000
END:STANDARD
BEGIN:DAYLIGHT
TZOFFSETFROM:-0800
TZOFFSETTO:-0700
TZNAME:PDT
DTSTART:20270314T100000
END:DAYLIGHT
BEGIN:STANDARD
TZOFFSETFROM:-0700
TZOFFSETTO:-0800
TZNAME:PST
DTSTART:20271107T090000
END:STANDARD
END:VTIMEZONE
BEGIN:VEVENT
DTSTART;TZID=America/Los_Angeles:20260413T150000
DTEND;TZID=America/Los_Angeles:20260413T200000
DTSTAMP:20260424T065819
CREATED:20260405T001931Z
LAST-MODIFIED:20260405T001931Z
UID:10000241-1776092400-1776110400@democratsofgreaterriverside.com
SUMMARY:Riverside City Council
DESCRIPTION:The Riverside City Council typically holds regular meetings on Tuesdays at 1:00 PM and 6:15 PM in the Art Pick Council Chamber\, located at 3900 Main Street\, Riverside\, CA. However\, meeting schedules can vary\, and some sessions may be canceled or rescheduled.Meeting Agendas & Info:  https://riversideca.legistar.com/Calendar.aspx
URL:https://democratsofgreaterriverside.com/event/riverside-city-council-11/
CATEGORIES:City Council
END:VEVENT
BEGIN:VEVENT
DTSTART;TZID=America/Los_Angeles:20260407T150000
DTEND;TZID=America/Los_Angeles:20260407T200000
DTSTAMP:20260424T065819
CREATED:20260405T001908Z
LAST-MODIFIED:20260405T001908Z
UID:10000240-1775574000-1775592000@democratsofgreaterriverside.com
SUMMARY:Riverside City Council
DESCRIPTION:The Riverside City Council typically holds regular meetings on Tuesdays at 1:00 PM and 6:15 PM in the Art Pick Council Chamber\, located at 3900 Main Street\, Riverside\, CA. However\, meeting schedules can vary\, and some sessions may be canceled or rescheduled.Meeting Agendas & Info:  https://riversideca.legistar.com/Calendar.aspx
URL:https://democratsofgreaterriverside.com/event/riverside-city-council-10/
CATEGORIES:City Council
END:VEVENT
BEGIN:VEVENT
DTSTART;TZID=America/Los_Angeles:20251216T130000
DTEND;TZID=America/Los_Angeles:20251216T170000
DTSTAMP:20260424T065819
CREATED:20250807T175000Z
LAST-MODIFIED:20250808T161234Z
UID:10000104-1765890000-1765904400@democratsofgreaterriverside.com
SUMMARY:Riverside City Council
DESCRIPTION:The City of Riverside is committed to providing high quality municipal services to ensure a safe\, inclusive\, and livable community. \nPublic comments regarding items on any matters within the jurisdiction of the City Council can be submitted via the eComment feature at riversideca.gov/meeting until two hours before the meeting or email comments to city_clerk@riverside.gov \nMeeting Agendas: riversideca.legistar.com/Calendar.aspx \nLIVE – RiversideTV:  YouTube Live
URL:https://democratsofgreaterriverside.com/event/riverside-city-council-9/
LOCATION:City Hall – Art Pick Council Chamber\, 3900 Main Street\, Riverside\, CA\, 92501\, United States
CATEGORIES:City Council,Public Meeting
END:VEVENT
BEGIN:VEVENT
DTSTART;TZID=America/Los_Angeles:20251209T130000
DTEND;TZID=America/Los_Angeles:20251209T170000
DTSTAMP:20260424T065819
CREATED:20250807T174945Z
LAST-MODIFIED:20250808T161149Z
UID:10000103-1765285200-1765299600@democratsofgreaterriverside.com
SUMMARY:Riverside City Council
DESCRIPTION:The City of Riverside is committed to providing high quality municipal services to ensure a safe\, inclusive\, and livable community. \nPublic comments regarding items on any matters within the jurisdiction of the City Council can be submitted via the eComment feature at riversideca.gov/meeting until two hours before the meeting or email comments to city_clerk@riverside.gov \nMeeting Agendas: riversideca.legistar.com/Calendar.aspx \nLIVE – RiversideTV:  YouTube Live
URL:https://democratsofgreaterriverside.com/event/riverside-city-council-8/
LOCATION:City Hall – Art Pick Council Chamber\, 3900 Main Street\, Riverside\, CA\, 92501\, United States
CATEGORIES:City Council,Public Meeting
END:VEVENT
BEGIN:VEVENT
DTSTART;TZID=America/Los_Angeles:20251202T130000
DTEND;TZID=America/Los_Angeles:20251202T170000
DTSTAMP:20260424T065819
CREATED:20250807T174929Z
LAST-MODIFIED:20250808T161103Z
UID:10000102-1764680400-1764694800@democratsofgreaterriverside.com
SUMMARY:Riverside City Council
DESCRIPTION:The City of Riverside is committed to providing high quality municipal services to ensure a safe\, inclusive\, and livable community. \nPublic comments regarding items on any matters within the jurisdiction of the City Council can be submitted via the eComment feature at riversideca.gov/meeting until two hours before the meeting or email comments to city_clerk@riverside.gov \nMeeting Agendas: riversideca.legistar.com/Calendar.aspx \nLIVE – RiversideTV:  YouTube Live
URL:https://democratsofgreaterriverside.com/event/riverside-city-council-7/
LOCATION:City Hall – Art Pick Council Chamber\, 3900 Main Street\, Riverside\, CA\, 92501\, United States
CATEGORIES:City Council,Public Meeting
END:VEVENT
BEGIN:VEVENT
DTSTART;TZID=America/Los_Angeles:20251118T130000
DTEND;TZID=America/Los_Angeles:20251118T170000
DTSTAMP:20260424T065819
CREATED:20250807T174627Z
LAST-MODIFIED:20250808T161000Z
UID:10000101-1763470800-1763485200@democratsofgreaterriverside.com
SUMMARY:Riverside City Council
DESCRIPTION:The City of Riverside is committed to providing high quality municipal services to ensure a safe\, inclusive\, and livable community. \nPublic comments regarding items on any matters within the jurisdiction of the City Council can be submitted via the eComment feature at riversideca.gov/meeting until two hours before the meeting or email comments to city_clerk@riverside.gov \nMeeting Agendas: riversideca.legistar.com/Calendar.aspx \nLIVE – RiversideTV:  YouTube Live
URL:https://democratsofgreaterriverside.com/event/riverside-city-council-6/
LOCATION:City Hall – Art Pick Council Chamber\, 3900 Main Street\, Riverside\, CA\, 92501\, United States
CATEGORIES:City Council,Public Meeting
END:VEVENT
BEGIN:VEVENT
DTSTART;TZID=America/Los_Angeles:20251104T130000
DTEND;TZID=America/Los_Angeles:20251104T170000
DTSTAMP:20260424T065819
CREATED:20250807T174613Z
LAST-MODIFIED:20250808T160910Z
UID:10000100-1762261200-1762275600@democratsofgreaterriverside.com
SUMMARY:Riverside City Council
DESCRIPTION:The City of Riverside is committed to providing high quality municipal services to ensure a safe\, inclusive\, and livable community. \nPublic comments regarding items on any matters within the jurisdiction of the City Council can be submitted via the eComment feature at riversideca.gov/meeting until two hours before the meeting or email comments to city_clerk@riverside.gov \nMeeting Agendas: riversideca.legistar.com/Calendar.aspx \nLIVE – RiversideTV:  YouTube Live
URL:https://democratsofgreaterriverside.com/event/riverside-city-council-5/
LOCATION:City Hall – Art Pick Council Chamber\, 3900 Main Street\, Riverside\, CA\, 92501\, United States
CATEGORIES:City Council,Public Meeting
END:VEVENT
BEGIN:VEVENT
DTSTART;TZID=America/Los_Angeles:20251028T130000
DTEND;TZID=America/Los_Angeles:20251028T170000
DTSTAMP:20260424T065819
CREATED:20250807T174600Z
LAST-MODIFIED:20250808T160804Z
UID:10000099-1761656400-1761670800@democratsofgreaterriverside.com
SUMMARY:Riverside City Council
DESCRIPTION:The City of Riverside is committed to providing high quality municipal services to ensure a safe\, inclusive\, and livable community. \nPublic comments regarding items on any matters within the jurisdiction of the City Council can be submitted via the eComment feature at riversideca.gov/meeting until two hours before the meeting or email comments to city_clerk@riverside.gov \nMeeting Agendas: riversideca.legistar.com/Calendar.aspx \nLIVE – RiversideTV:  YouTube Live
URL:https://democratsofgreaterriverside.com/event/riverside-city-council-4/
LOCATION:City Hall – Art Pick Council Chamber\, 3900 Main Street\, Riverside\, CA\, 92501\, United States
CATEGORIES:City Council,Public Meeting
END:VEVENT
BEGIN:VEVENT
DTSTART;TZID=America/Los_Angeles:20251021T130000
DTEND;TZID=America/Los_Angeles:20251021T170000
DTSTAMP:20260424T065819
CREATED:20250807T174545Z
LAST-MODIFIED:20250808T160716Z
UID:10000098-1761051600-1761066000@democratsofgreaterriverside.com
SUMMARY:Riverside City Council
DESCRIPTION:The City of Riverside is committed to providing high quality municipal services to ensure a safe\, inclusive\, and livable community. \nPublic comments regarding items on any matters within the jurisdiction of the City Council can be submitted via the eComment feature at riversideca.gov/meeting until two hours before the meeting or email comments to city_clerk@riverside.gov \nMeeting Agendas: riversideca.legistar.com/Calendar.aspx \nLIVE – RiversideTV:  YouTube Live
URL:https://democratsofgreaterriverside.com/event/riverside-city-council-3/
LOCATION:City Hall – Art Pick Council Chamber\, 3900 Main Street\, Riverside\, CA\, 92501\, United States
CATEGORIES:City Council,Public Meeting
END:VEVENT
BEGIN:VEVENT
DTSTART;TZID=America/Los_Angeles:20251014T170000
DTEND;TZID=America/Los_Angeles:20251014T193000
DTSTAMP:20260424T065819
CREATED:20250930T161538Z
LAST-MODIFIED:20251013T193706Z
UID:10000210-1760461200-1760470200@democratsofgreaterriverside.com
SUMMARY:Special Meeting: Riverside City Council
DESCRIPTION:Discussion Calendar – Resolution of the City Council affirming the City’s actions in supporting the importance of transparency\, community and public safety\, and clear identification standards in Federal immigration enforcement activities in the City of Riverside. \nTopic requested by Clarissa Cervantes (Ward 2) \nClick for more details
URL:https://democratsofgreaterriverside.com/event/special-meeting-riverside-city-council/
LOCATION:City Hall – Art Pick Council Chamber\, 3900 Main Street\, Riverside\, CA\, 92501\, United States
CATEGORIES:Government
END:VEVENT
BEGIN:VEVENT
DTSTART;TZID=America/Los_Angeles:20250916T130000
DTEND;TZID=America/Los_Angeles:20250916T170000
DTSTAMP:20260424T065819
CREATED:20250807T174532Z
LAST-MODIFIED:20250808T160553Z
UID:10000097-1758027600-1758042000@democratsofgreaterriverside.com
SUMMARY:Riverside City Council
DESCRIPTION:The City of Riverside is committed to providing high quality municipal services to ensure a safe\, inclusive\, and livable community. \nPublic comments regarding items on any matters within the jurisdiction of the City Council can be submitted via the eComment feature at riversideca.gov/meeting until two hours before the meeting or email comments to city_clerk@riverside.gov \nMeeting Agendas: riversideca.legistar.com/Calendar.aspx \nLIVE – RiversideTV:  YouTube Live
URL:https://democratsofgreaterriverside.com/event/riverside-city-council-2/
CATEGORIES:City Council,Public Meeting
END:VEVENT
BEGIN:VEVENT
DTSTART;TZID=America/Los_Angeles:20250819T130000
DTEND;TZID=America/Los_Angeles:20250819T170000
DTSTAMP:20260424T065819
CREATED:20250807T170131Z
LAST-MODIFIED:20250808T160505Z
UID:10000080-1755608400-1755622800@democratsofgreaterriverside.com
SUMMARY:Riverside City Council
DESCRIPTION:The City of Riverside is committed to providing high quality municipal services to ensure a safe\, inclusive\, and livable community. \nPublic comments regarding items on any matters within the jurisdiction of the City Council can be submitted via the eComment feature at riversideca.gov/meeting until two hours before the meeting or email comments to city_clerk@riverside.gov \nMeeting Agendas: riversideca.legistar.com/Calendar.aspx \nLIVE – RiversideTV:  YouTube Live
URL:https://democratsofgreaterriverside.com/event/riverside-city-council/
LOCATION:City Hall – Art Pick Council Chamber\, 3900 Main Street\, Riverside\, CA\, 92501\, United States
CATEGORIES:City Council,Public Meeting
END:VEVENT
END:VCALENDAR