BEGIN:VCALENDAR
VERSION:2.0
PRODID:-//Democrats of Greater Riverside - ECPv6.15.12.2//NONSGML v1.0//EN
CALSCALE:GREGORIAN
METHOD:PUBLISH
X-ORIGINAL-URL:https://democratsofgreaterriverside.com
X-WR-CALDESC:Events for Democrats of Greater Riverside
REFRESH-INTERVAL;VALUE=DURATION:PT1H
X-Robots-Tag:noindex
X-PUBLISHED-TTL:PT1H
BEGIN:VTIMEZONE
TZID:America/Los_Angeles
BEGIN:DAYLIGHT
TZOFFSETFROM:-0800
TZOFFSETTO:-0700
TZNAME:PDT
DTSTART:20240310T100000
END:DAYLIGHT
BEGIN:STANDARD
TZOFFSETFROM:-0700
TZOFFSETTO:-0800
TZNAME:PST
DTSTART:20241103T090000
END:STANDARD
BEGIN:DAYLIGHT
TZOFFSETFROM:-0800
TZOFFSETTO:-0700
TZNAME:PDT
DTSTART:20250309T100000
END:DAYLIGHT
BEGIN:STANDARD
TZOFFSETFROM:-0700
TZOFFSETTO:-0800
TZNAME:PST
DTSTART:20251102T090000
END:STANDARD
BEGIN:DAYLIGHT
TZOFFSETFROM:-0800
TZOFFSETTO:-0700
TZNAME:PDT
DTSTART:20260308T100000
END:DAYLIGHT
BEGIN:STANDARD
TZOFFSETFROM:-0700
TZOFFSETTO:-0800
TZNAME:PST
DTSTART:20261101T090000
END:STANDARD
BEGIN:DAYLIGHT
TZOFFSETFROM:-0800
TZOFFSETTO:-0700
TZNAME:PDT
DTSTART:20270314T100000
END:DAYLIGHT
BEGIN:STANDARD
TZOFFSETFROM:-0700
TZOFFSETTO:-0800
TZNAME:PST
DTSTART:20271107T090000
END:STANDARD
END:VTIMEZONE
BEGIN:VEVENT
DTSTART;TZID=America/Los_Angeles:20260409T173000
DTEND;TZID=America/Los_Angeles:20260409T190000
DTSTAMP:20260423T092556
CREATED:20260405T010556Z
LAST-MODIFIED:20260405T010556Z
UID:10000285-1775755800-1775761200@democratsofgreaterriverside.com
SUMMARY:RUSD Board Meeting
DESCRIPTION:The Board of Education typically meets on Thursday nights for meetings unless otherwise noted. Members of the public are invited and encouraged to attend all Board meetings and meetings will take place in the Board Room at the Riverside Adult School\, which is located at 6735 Magnolia Avenue\, Riverside\, 92506\, unless otherwise noted. Meetings begin at 4:00 p.m. and the Board will immediately adjourn to Closed Session after Public Input on Closed Session items has been heard\, the Board will reconvene in Open Session at 5:30 p.m. unless otherwise noted.
URL:https://democratsofgreaterriverside.com/event/rusd-board-meeting-7/
LOCATION:Riverside Adult School\, 6735 Magnolia Avenue\, Riverside\, CA\, 92506\, United States
CATEGORIES:School Board
END:VEVENT
BEGIN:VEVENT
DTSTART;TZID=America/Los_Angeles:20251211T173000
DTEND;TZID=America/Los_Angeles:20251211T190000
DTSTAMP:20260423T092556
CREATED:20250807T171724Z
LAST-MODIFIED:20250808T141210Z
UID:10000086-1765474200-1765479600@democratsofgreaterriverside.com
SUMMARY:RUSD Board Meeting
DESCRIPTION:The Board of Education typically meets on Thursday nights for meetings unless otherwise noted. Members of the public are invited and encouraged to attend all Board meetings and meetings will take place in the Board Room at the Riverside Adult School\, which is located at 6735 Magnolia Avenue\, Riverside\, 92506\, unless otherwise noted. Meetings begin at 4:00 p.m. and the Board will immediately adjourn to Closed Session after Public Input on Closed Session items has been heard\, the Board will reconvene in Open Session at 5:30 p.m. unless otherwise noted.\nMeeting Agendas & Info:  https://simbli.eboardsolutions.com/SB_Meetings/SB_MeetingListing.aspx?S=36030406
URL:https://democratsofgreaterriverside.com/event/rusd-board-meeting-6/
LOCATION:Riverside Adult School\, 6735 Magnolia Avenue\, Riverside\, CA\, 92506\, United States
CATEGORIES:Public Meeting,School Board
END:VEVENT
BEGIN:VEVENT
DTSTART;TZID=America/Los_Angeles:20251120T173000
DTEND;TZID=America/Los_Angeles:20251120T190000
DTSTAMP:20260423T092556
CREATED:20250807T171547Z
LAST-MODIFIED:20250808T141153Z
UID:10000085-1763659800-1763665200@democratsofgreaterriverside.com
SUMMARY:RUSD Board Meeting
DESCRIPTION:The Board of Education typically meets on Thursday nights for meetings unless otherwise noted. Members of the public are invited and encouraged to attend all Board meetings and meetings will take place in the Board Room at the Riverside Adult School\, which is located at 6735 Magnolia Avenue\, Riverside\, 92506\, unless otherwise noted. Meetings begin at 4:00 p.m. and the Board will immediately adjourn to Closed Session after Public Input on Closed Session items has been heard\, the Board will reconvene in Open Session at 5:30 p.m. unless otherwise noted.\nMeeting Agendas & Info:  https://simbli.eboardsolutions.com/SB_Meetings/SB_MeetingListing.aspx?S=36030406
URL:https://democratsofgreaterriverside.com/event/rusd-board-meeting-5/
LOCATION:Riverside Adult School\, 6735 Magnolia Avenue\, Riverside\, CA\, 92506\, United States
CATEGORIES:Public Meeting,School Board
END:VEVENT
BEGIN:VEVENT
DTSTART;TZID=America/Los_Angeles:20251106T173000
DTEND;TZID=America/Los_Angeles:20251106T190000
DTSTAMP:20260423T092556
CREATED:20250807T171533Z
LAST-MODIFIED:20250808T141138Z
UID:10000084-1762450200-1762455600@democratsofgreaterriverside.com
SUMMARY:RUSD Board Meeting
DESCRIPTION:The Board of Education typically meets on Thursday nights for meetings unless otherwise noted. Members of the public are invited and encouraged to attend all Board meetings and meetings will take place in the Board Room at the Riverside Adult School\, which is located at 6735 Magnolia Avenue\, Riverside\, 92506\, unless otherwise noted. Meetings begin at 4:00 p.m. and the Board will immediately adjourn to Closed Session after Public Input on Closed Session items has been heard\, the Board will reconvene in Open Session at 5:30 p.m. unless otherwise noted.\nMeeting Agendas & Info:  https://simbli.eboardsolutions.com/SB_Meetings/SB_MeetingListing.aspx?S=36030406
URL:https://democratsofgreaterriverside.com/event/rusd-board-meeting-4/
LOCATION:Riverside Adult School\, 6735 Magnolia Avenue\, Riverside\, CA\, 92506\, United States
CATEGORIES:Public Meeting,School Board
END:VEVENT
BEGIN:VEVENT
DTSTART;TZID=America/Los_Angeles:20251016T173000
DTEND;TZID=America/Los_Angeles:20251016T190000
DTSTAMP:20260423T092556
CREATED:20250807T171520Z
LAST-MODIFIED:20250808T141121Z
UID:10000083-1760635800-1760641200@democratsofgreaterriverside.com
SUMMARY:RUSD Board Meeting
DESCRIPTION:The Board of Education typically meets on Thursday nights for meetings unless otherwise noted. Members of the public are invited and encouraged to attend all Board meetings and meetings will take place in the Board Room at the Riverside Adult School\, which is located at 6735 Magnolia Avenue\, Riverside\, 92506\, unless otherwise noted. Meetings begin at 4:00 p.m. and the Board will immediately adjourn to Closed Session after Public Input on Closed Session items has been heard\, the Board will reconvene in Open Session at 5:30 p.m. unless otherwise noted.\nMeeting Agendas & Info:  https://simbli.eboardsolutions.com/SB_Meetings/SB_MeetingListing.aspx?S=36030406
URL:https://democratsofgreaterriverside.com/event/rusd-board-meeting-3/
LOCATION:Riverside Adult School\, 6735 Magnolia Avenue\, Riverside\, CA\, 92506\, United States
CATEGORIES:Public Meeting,School Board
END:VEVENT
BEGIN:VEVENT
DTSTART;TZID=America/Los_Angeles:20250925T173000
DTEND;TZID=America/Los_Angeles:20250925T190000
DTSTAMP:20260423T092556
CREATED:20250807T171503Z
LAST-MODIFIED:20250808T141106Z
UID:10000082-1758821400-1758826800@democratsofgreaterriverside.com
SUMMARY:RUSD Board Meeting
DESCRIPTION:The Board of Education typically meets on Thursday nights for meetings unless otherwise noted. Members of the public are invited and encouraged to attend all Board meetings and meetings will take place in the Board Room at the Riverside Adult School\, which is located at 6735 Magnolia Avenue\, Riverside\, 92506\, unless otherwise noted. Meetings begin at 4:00 p.m. and the Board will immediately adjourn to Closed Session after Public Input on Closed Session items has been heard\, the Board will reconvene in Open Session at 5:30 p.m. unless otherwise noted.
URL:https://democratsofgreaterriverside.com/event/rusd-board-meeting-2/
LOCATION:Riverside Adult School\, 6735 Magnolia Avenue\, Riverside\, CA\, 92506\, United States
CATEGORIES:Public Meeting,School Board
END:VEVENT
BEGIN:VEVENT
DTSTART;TZID=America/Los_Angeles:20250821T173000
DTEND;TZID=America/Los_Angeles:20250821T190000
DTSTAMP:20260423T092556
CREATED:20250807T171449Z
LAST-MODIFIED:20250808T141049Z
UID:10000081-1755797400-1755802800@democratsofgreaterriverside.com
SUMMARY:RUSD Board Meeting
DESCRIPTION:The Board of Education typically meets on Thursday nights for meetings unless otherwise noted. Members of the public are invited and encouraged to attend all Board meetings and meetings will take place in the Board Room at the Riverside Adult School\, which is located at 6735 Magnolia Avenue\, Riverside\, 92506\, unless otherwise noted. Meetings begin at 4:00 p.m. and the Board will immediately adjourn to Closed Session after Public Input on Closed Session items has been heard\, the Board will reconvene in Open Session at 5:30 p.m. unless otherwise noted.
URL:https://democratsofgreaterriverside.com/event/rusd-board-meeting/
LOCATION:Riverside Adult School\, 6735 Magnolia Avenue\, Riverside\, CA\, 92506\, United States
CATEGORIES:Public Meeting,School Board
END:VEVENT
END:VCALENDAR